BEGIN:VCALENDAR
VERSION:2.0
PRODID:-// - ECPv6.15.20//NONSGML v1.0//EN
CALSCALE:GREGORIAN
METHOD:PUBLISH
X-ORIGINAL-URL:https://zoofolk.blog
X-WR-CALDESC:Events for 
REFRESH-INTERVAL;VALUE=DURATION:PT1H
X-Robots-Tag:noindex
X-PUBLISHED-TTL:PT1H
BEGIN:VTIMEZONE
TZID:America/Chicago
BEGIN:DAYLIGHT
TZOFFSETFROM:-0600
TZOFFSETTO:-0500
TZNAME:CDT
DTSTART:20250309T080000
END:DAYLIGHT
BEGIN:STANDARD
TZOFFSETFROM:-0500
TZOFFSETTO:-0600
TZNAME:CST
DTSTART:20251102T070000
END:STANDARD
BEGIN:DAYLIGHT
TZOFFSETFROM:-0600
TZOFFSETTO:-0500
TZNAME:CDT
DTSTART:20260308T080000
END:DAYLIGHT
BEGIN:STANDARD
TZOFFSETFROM:-0500
TZOFFSETTO:-0600
TZNAME:CST
DTSTART:20261101T070000
END:STANDARD
BEGIN:DAYLIGHT
TZOFFSETFROM:-0600
TZOFFSETTO:-0500
TZNAME:CDT
DTSTART:20270314T080000
END:DAYLIGHT
BEGIN:STANDARD
TZOFFSETFROM:-0500
TZOFFSETTO:-0600
TZNAME:CST
DTSTART:20271107T070000
END:STANDARD
END:VTIMEZONE
BEGIN:VEVENT
DTSTART;VALUE=DATE:20260214
DTEND;VALUE=DATE:20260215
DTSTAMP:20260423T144652
CREATED:20241011T163007Z
LAST-MODIFIED:20260109T015019Z
UID:3327-1771027200-1771113599@zoofolk.blog
SUMMARY:World Bonobo Day
DESCRIPTION:This day is to raise awareness of the endangered great ape: Bonobo.  Though they look very similar to a chimpanzee they are a completely separate species.  Also\, whereas chimpanzees are known for their aggression the bonobo is known for its much more passivity.
URL:https://zoofolk.blog/event/world-bonobo-day/
END:VEVENT
BEGIN:VEVENT
DTSTART;VALUE=DATE:20260215
DTEND;VALUE=DATE:20260216
DTSTAMP:20260423T144652
CREATED:20241011T164059Z
LAST-MODIFIED:20260109T015532Z
UID:3333-1771113600-1771199999@zoofolk.blog
SUMMARY:World Hippopotamus Day
DESCRIPTION:World hippopotamus day is to celebrate these unique mammals of Africa.
URL:https://zoofolk.blog/event/world-hippopotamus-day/
END:VEVENT
BEGIN:VEVENT
DTSTART;VALUE=DATE:20260215
DTEND;VALUE=DATE:20260216
DTSTAMP:20260423T144652
CREATED:20241011T164711Z
LAST-MODIFIED:20260109T015935Z
UID:3335-1771113600-1771199999@zoofolk.blog
SUMMARY:World Whale Day
DESCRIPTION:World Whale Day aims to raise awareness of these magnificent creatures\, their beauty as well as their ecological value to the planet. \n\ \nFin Whale\, my favorite whale.
URL:https://zoofolk.blog/event/world-whale-day/
END:VEVENT
BEGIN:VEVENT
DTSTART;VALUE=DATE:20260221
DTEND;VALUE=DATE:20260222
DTSTAMP:20260423T144652
CREATED:20241011T163700Z
LAST-MODIFIED:20260109T015401Z
UID:3330-1771632000-1771718399@zoofolk.blog
SUMMARY:World Pangolin Day
DESCRIPTION:This day is for raising awareness of the pangolin\, for which there are 8 species (4 in Asia\, 4 in Africa).  Pangolins are the most illegally trafficked animals in the world. \n \nBlack-Bellied Pangolin
URL:https://zoofolk.blog/event/world-pangolin-day/
END:VEVENT
BEGIN:VEVENT
DTSTART;VALUE=DATE:20260227
DTEND;VALUE=DATE:20260228
DTSTAMP:20260423T144652
CREATED:20241011T165825Z
LAST-MODIFIED:20260109T020350Z
UID:3338-1772150400-1772236799@zoofolk.blog
SUMMARY:International Polar Bear Day
DESCRIPTION:This day is for celebrating the polar bear the world’s largest bear and land carnivore.  They are also the unofficial climate change mascot. \n \nPolar Bear\, Kansas City Zoo
URL:https://zoofolk.blog/event/international-polar-bear-day/
END:VEVENT
END:VCALENDAR