BEGIN:VCALENDAR
VERSION:2.0
PRODID:-// - ECPv6.15.20//NONSGML v1.0//EN
CALSCALE:GREGORIAN
METHOD:PUBLISH
X-ORIGINAL-URL:https://zoofolk.blog
X-WR-CALDESC:Events for 
REFRESH-INTERVAL;VALUE=DURATION:PT1H
X-Robots-Tag:noindex
X-PUBLISHED-TTL:PT1H
BEGIN:VTIMEZONE
TZID:America/Chicago
BEGIN:DAYLIGHT
TZOFFSETFROM:-0600
TZOFFSETTO:-0500
TZNAME:CDT
DTSTART:20240310T080000
END:DAYLIGHT
BEGIN:STANDARD
TZOFFSETFROM:-0500
TZOFFSETTO:-0600
TZNAME:CST
DTSTART:20241103T070000
END:STANDARD
BEGIN:DAYLIGHT
TZOFFSETFROM:-0600
TZOFFSETTO:-0500
TZNAME:CDT
DTSTART:20250309T080000
END:DAYLIGHT
BEGIN:STANDARD
TZOFFSETFROM:-0500
TZOFFSETTO:-0600
TZNAME:CST
DTSTART:20251102T070000
END:STANDARD
BEGIN:DAYLIGHT
TZOFFSETFROM:-0600
TZOFFSETTO:-0500
TZNAME:CDT
DTSTART:20260308T080000
END:DAYLIGHT
BEGIN:STANDARD
TZOFFSETFROM:-0500
TZOFFSETTO:-0600
TZNAME:CST
DTSTART:20261101T070000
END:STANDARD
END:VTIMEZONE
BEGIN:VEVENT
DTSTART;VALUE=DATE:20250802
DTEND;VALUE=DATE:20250803
DTSTAMP:20260424T004226
CREATED:20250607T021629Z
LAST-MODIFIED:20250607T021629Z
UID:4122-1754092800-1754179199@zoofolk.blog
SUMMARY:International Golden Tamarin Day
DESCRIPTION:It is a day dedicated to raising awareness and taking action to protect these remarkable primates.
URL:https://zoofolk.blog/event/international-golden-tamarin-day/
END:VEVENT
BEGIN:VEVENT
DTSTART;VALUE=DATE:20250804
DTEND;VALUE=DATE:20250805
DTSTAMP:20260424T004226
CREATED:20240428T124253Z
LAST-MODIFIED:20241126T125809Z
UID:2371-1754265600-1754351999@zoofolk.blog
SUMMARY:International Clouded Leopard Day
DESCRIPTION:This day raises awareness of the plight of the clouded leopard. Both in the wild and in captivity\, the clouded leopard needs our help to maintain its current population levels and to grow. \nClouded Leopard
URL:https://zoofolk.blog/event/international-clouded-leopard-day/
END:VEVENT
BEGIN:VEVENT
DTSTART;VALUE=DATE:20250808
DTEND;VALUE=DATE:20250809
DTSTAMP:20260424T004226
CREATED:20250607T022336Z
LAST-MODIFIED:20250607T022336Z
UID:4124-1754611200-1754697599@zoofolk.blog
SUMMARY:International Moon Bear Day
DESCRIPTION:This day is dedicated to raising awareness about the plight of the Asiatic black bear\, also known as the moon bear\, and to celebrate efforts to protect them. 
URL:https://zoofolk.blog/event/international-moon-bear-day/
END:VEVENT
BEGIN:VEVENT
DTSTART;VALUE=DATE:20250810
DTEND;VALUE=DATE:20250811
DTSTAMP:20260424T004226
CREATED:20240428T124801Z
LAST-MODIFIED:20250607T022536Z
UID:2374-1754784000-1754870399@zoofolk.blog
SUMMARY:World Lion Day
DESCRIPTION:World Lion Day seeks to inform the public about the decline of lion populations in the wild and the efforts being made to stop them from becoming endangered. It is also an opportunity to celebrate lions’ cultural significance and the important role they play in ecosystems.  In the last 100 years\, the lion population has declined by 90%.\n \nAfrican Lion
URL:https://zoofolk.blog/event/world-lion-day/
END:VEVENT
BEGIN:VEVENT
DTSTART;VALUE=DATE:20250812
DTEND;VALUE=DATE:20250813
DTSTAMP:20260424T004226
CREATED:20240428T125219Z
LAST-MODIFIED:20250607T022641Z
UID:2376-1754956800-1755043199@zoofolk.blog
SUMMARY:World Elephant Day
DESCRIPTION:World Elephant Day is a day to get people to support organizations that are working to stop the illegal poaching and trade of elephant ivory and other wildlife products\, protect wild elephant habitat\, and provide sanctuaries and alternative habitats for domestic elephants to live freely. \nAfrican Elephant\n \nAsian Elephant
URL:https://zoofolk.blog/event/world-elephant-day/
END:VEVENT
BEGIN:VEVENT
DTSTART;VALUE=DATE:20250812
DTEND;VALUE=DATE:20250813
DTSTAMP:20260424T004226
CREATED:20250607T024104Z
LAST-MODIFIED:20250607T024104Z
UID:4127-1754956800-1755043199@zoofolk.blog
SUMMARY:World Hirola Day
DESCRIPTION:This day aims to highlight the threats facing these unique animals\, which are native to the border regions of Kenya and Somalia\, and to promote conservation efforts.  \n\n\n\nThis day aims to highlight the threats facing these unique animals\, which are native to the border regions of Kenya and Somalia\, and to promote conservation efforts. 
URL:https://zoofolk.blog/event/world-hirola-day/
END:VEVENT
BEGIN:VEVENT
DTSTART;VALUE=DATE:20250813
DTEND;VALUE=DATE:20250814
DTSTAMP:20260424T004226
CREATED:20250607T024425Z
LAST-MODIFIED:20250607T024425Z
UID:4130-1755043200-1755129599@zoofolk.blog
SUMMARY:International Wolf Day
DESCRIPTION:It’s a time to recognize the ecological importance of wolves\, raise awareness about their conservation\, and address misconceptions surrounding them.
URL:https://zoofolk.blog/event/international-wolf-day/
END:VEVENT
BEGIN:VEVENT
DTSTART;VALUE=DATE:20250814
DTEND;VALUE=DATE:20250815
DTSTAMP:20260424T004226
CREATED:20240428T125735Z
LAST-MODIFIED:20250607T023359Z
UID:2378-1755129600-1755215999@zoofolk.blog
SUMMARY:World Lizard Day
DESCRIPTION:The day encourages us to show appreciation for lizards and to learn more about them. \nKimberly Rock Monitor
URL:https://zoofolk.blog/event/world-lizard-day/
END:VEVENT
END:VCALENDAR