BEGIN:VCALENDAR
VERSION:2.0
PRODID:-// - ECPv6.15.20//NONSGML v1.0//EN
CALSCALE:GREGORIAN
METHOD:PUBLISH
X-ORIGINAL-URL:https://zoofolk.blog
X-WR-CALDESC:Events for 
REFRESH-INTERVAL;VALUE=DURATION:PT1H
X-Robots-Tag:noindex
X-PUBLISHED-TTL:PT1H
BEGIN:VTIMEZONE
TZID:America/Chicago
BEGIN:DAYLIGHT
TZOFFSETFROM:-0600
TZOFFSETTO:-0500
TZNAME:CDT
DTSTART:20240310T080000
END:DAYLIGHT
BEGIN:STANDARD
TZOFFSETFROM:-0500
TZOFFSETTO:-0600
TZNAME:CST
DTSTART:20241103T070000
END:STANDARD
BEGIN:DAYLIGHT
TZOFFSETFROM:-0600
TZOFFSETTO:-0500
TZNAME:CDT
DTSTART:20250309T080000
END:DAYLIGHT
BEGIN:STANDARD
TZOFFSETFROM:-0500
TZOFFSETTO:-0600
TZNAME:CST
DTSTART:20251102T070000
END:STANDARD
BEGIN:DAYLIGHT
TZOFFSETFROM:-0600
TZOFFSETTO:-0500
TZNAME:CDT
DTSTART:20260308T080000
END:DAYLIGHT
BEGIN:STANDARD
TZOFFSETFROM:-0500
TZOFFSETTO:-0600
TZNAME:CST
DTSTART:20261101T070000
END:STANDARD
END:VTIMEZONE
BEGIN:VEVENT
DTSTART;VALUE=DATE:20250607
DTEND;VALUE=DATE:20250608
DTSTAMP:20260424T040935
CREATED:20240426T154055Z
LAST-MODIFIED:20250306T214225Z
UID:2354-1749254400-1749340799@zoofolk.blog
SUMMARY:National Black Bear Day
DESCRIPTION:This celebrates the most common bear in North America\, the American black bear.  At one time they occurred in all 50 states except Hawaii.  Now they have been extirpated in several of the plains states and north eastern states. \nAmerican Black Bear
URL:https://zoofolk.blog/event/national-black-bear-day/
END:VEVENT
BEGIN:VEVENT
DTSTART;VALUE=DATE:20250608
DTEND;VALUE=DATE:20250609
DTSTAMP:20260424T040935
CREATED:20240604T211822Z
LAST-MODIFIED:20250607T013158Z
UID:2727-1749340800-1749427199@zoofolk.blog
SUMMARY:World Ocean Day
DESCRIPTION:This day is to help unite and rally the world to protect and restore our blue planet! \nMuch of the oceans look like deserts\, with any life under the waves. \nThe Pacific Ocean
URL:https://zoofolk.blog/event/world-ocean-day/
END:VEVENT
BEGIN:VEVENT
DTSTART;VALUE=DATE:20250612
DTEND;VALUE=DATE:20250613
DTSTAMP:20260424T040935
CREATED:20240604T221049Z
LAST-MODIFIED:20250607T011000Z
UID:2732-1749686400-1749772799@zoofolk.blog
SUMMARY:National Cougar Day
DESCRIPTION:National Cougar Day is to celebrate the cougar which once roamed over the entire United States\, but has been extirpated from most of it’s eastern range.
URL:https://zoofolk.blog/event/national-cougar-day/
END:VEVENT
BEGIN:VEVENT
DTSTART;VALUE=DATE:20250616
DTEND;VALUE=DATE:20250617
DTSTAMP:20260424T040935
CREATED:20240426T155257Z
LAST-MODIFIED:20250607T011242Z
UID:2356-1750032000-1750118399@zoofolk.blog
SUMMARY:World Sea Turtle Day
DESCRIPTION:June 16th is World Sea Turtle Day because it is the birthday of Dr. Archie Carr who is widely known as “the father of sea turtle biology.” Dr. Carr focused his entire career on sea turtle research and conservation.  Of the 7 species of sea turtles all but one is threatened\, endangered and with the Kemp’s Ridley and the hawksbill sea turtles being critically endangered.
URL:https://zoofolk.blog/event/world-sea-turtle-day/
END:VEVENT
BEGIN:VEVENT
DTSTART;VALUE=DATE:20250617
DTEND;VALUE=DATE:20250618
DTSTAMP:20260424T040935
CREATED:20250607T013553Z
LAST-MODIFIED:20250607T013553Z
UID:4110-1750118400-1750204799@zoofolk.blog
SUMMARY:World Croc Day
DESCRIPTION:This annual day is dedicated to celebrating and raising awareness about crocodiles\, encouraging everyone to learn more about these amazing reptiles \n  \n \n 
URL:https://zoofolk.blog/event/world-croc-day-2/
END:VEVENT
BEGIN:VEVENT
DTSTART;VALUE=DATE:20250621
DTEND;VALUE=DATE:20250622
DTSTAMP:20260424T040935
CREATED:20240426T160007Z
LAST-MODIFIED:20250607T012158Z
UID:2358-1750464000-1750550399@zoofolk.blog
SUMMARY:World Giraffe Day
DESCRIPTION:This day was chosen to celebrate the world’s tallest animal on the longest day or night (depending on which hemisphere you live) of the year.  How cool is that!! \n \nI call this my Missouri giraffe photo with a piece of grass hanging out of the mouth.
URL:https://zoofolk.blog/event/world-giraffe-day/
END:VEVENT
BEGIN:VEVENT
DTSTART;VALUE=DATE:20250623
DTEND;VALUE=DATE:20250624
DTSTAMP:20260424T040935
CREATED:20240426T160536Z
LAST-MODIFIED:20250607T013032Z
UID:2361-1750636800-1750723199@zoofolk.blog
SUMMARY:Pink Flamingo Day
DESCRIPTION:This could almost be an April Fools Day.  It doesn’t celebrate the bird but the pink flamingo lawn ornaments!  It tickled me so I decided to share it.
URL:https://zoofolk.blog/event/pink-flamingo-day/
END:VEVENT
BEGIN:VEVENT
DTSTART;VALUE=DATE:20250623
DTEND;VALUE=DATE:20250624
DTSTAMP:20260424T040935
CREATED:20250607T014150Z
LAST-MODIFIED:20250607T014150Z
UID:4115-1750636800-1750723199@zoofolk.blog
SUMMARY:World Camel Day
DESCRIPTION:The day recognizes the importance of camels in history\, culture\, and as a symbol of resilience and endurance.
URL:https://zoofolk.blog/event/world-camel-day/
END:VEVENT
END:VCALENDAR