BEGIN:VCALENDAR
VERSION:2.0
PRODID:-// - ECPv6.15.20//NONSGML v1.0//EN
CALSCALE:GREGORIAN
METHOD:PUBLISH
X-ORIGINAL-URL:https://zoofolk.blog
X-WR-CALDESC:Events for 
REFRESH-INTERVAL;VALUE=DURATION:PT1H
X-Robots-Tag:noindex
X-PUBLISHED-TTL:PT1H
BEGIN:VTIMEZONE
TZID:America/Chicago
BEGIN:DAYLIGHT
TZOFFSETFROM:-0600
TZOFFSETTO:-0500
TZNAME:CDT
DTSTART:20230312T080000
END:DAYLIGHT
BEGIN:STANDARD
TZOFFSETFROM:-0500
TZOFFSETTO:-0600
TZNAME:CST
DTSTART:20231105T070000
END:STANDARD
BEGIN:DAYLIGHT
TZOFFSETFROM:-0600
TZOFFSETTO:-0500
TZNAME:CDT
DTSTART:20240310T080000
END:DAYLIGHT
BEGIN:STANDARD
TZOFFSETFROM:-0500
TZOFFSETTO:-0600
TZNAME:CST
DTSTART:20241103T070000
END:STANDARD
BEGIN:DAYLIGHT
TZOFFSETFROM:-0600
TZOFFSETTO:-0500
TZNAME:CDT
DTSTART:20250309T080000
END:DAYLIGHT
BEGIN:STANDARD
TZOFFSETFROM:-0500
TZOFFSETTO:-0600
TZNAME:CST
DTSTART:20251102T070000
END:STANDARD
END:VTIMEZONE
BEGIN:VEVENT
DTSTART;VALUE=DATE:20241102
DTEND;VALUE=DATE:20241103
DTSTAMP:20260424T155849
CREATED:20240508T153801Z
LAST-MODIFIED:20240508T154514Z
UID:2587-1730505600-1730591999@zoofolk.blog
SUMMARY:World Numbat Day
DESCRIPTION:World Numbat Day shows appreciation for this amazing mammal. It’s also a day to encourage action to help conserve these endangered animals. \n \nNumbat photo from Wikipedia (https://en.wikipedia.org/wiki/Main_Page)
URL:https://zoofolk.blog/event/world-numbat-day/
END:VEVENT
BEGIN:VEVENT
DTSTART;VALUE=DATE:20241102
DTEND;VALUE=DATE:20241103
DTSTAMP:20260424T155849
CREATED:20240508T154821Z
LAST-MODIFIED:20240508T154821Z
UID:2592-1730505600-1730591999@zoofolk.blog
SUMMARY:National Bison Day
DESCRIPTION:National Bison Day seeks to raise awareness about the bison’s role in American history and the ongoing conservation efforts to maintain this majestic creature’s population. \nPlains Bison
URL:https://zoofolk.blog/event/national-bison-day/
END:VEVENT
BEGIN:VEVENT
DTSTART;VALUE=DATE:20241119
DTEND;VALUE=DATE:20241120
DTSTAMP:20260424T155849
CREATED:20241104T170350Z
LAST-MODIFIED:20241104T170350Z
UID:3370-1731974400-1732060799@zoofolk.blog
SUMMARY:World Anteater Day
DESCRIPTION:World Anteater Day is celebrated to raise awareness of anteaters and their important role in the ecosystem. The day also highlights the unique adaptations of anteaters and the need to conserve their habitats. \nKODAK Digital Still Camera
URL:https://zoofolk.blog/event/world-anteater-day/
END:VEVENT
BEGIN:VEVENT
DTSTART;VALUE=DATE:20241124
DTEND;VALUE=DATE:20241125
DTSTAMP:20260424T155850
CREATED:20241125T005717Z
LAST-MODIFIED:20241125T005732Z
UID:3495-1732406400-1732492799@zoofolk.blog
SUMMARY:World Walrus Day
DESCRIPTION:World Walrus Day celebrates walruses and their importance to the environment
URL:https://zoofolk.blog/event/world-walrus-day/
END:VEVENT
BEGIN:VEVENT
DTSTART;VALUE=DATE:20241129
DTEND;VALUE=DATE:20241130
DTSTAMP:20260424T155850
CREATED:20241104T170855Z
LAST-MODIFIED:20241104T171114Z
UID:3372-1732838400-1732924799@zoofolk.blog
SUMMARY:International Jaguar Day
DESCRIPTION:International Jaguar Day was created to raise awareness about the increasing threats facing the jaguar and the critical conservation efforts ensuring its survival from Mexico to Argentina.
URL:https://zoofolk.blog/event/international-jaguar-day/
END:VEVENT
END:VCALENDAR