BEGIN:VCALENDAR
VERSION:2.0
PRODID:-// - ECPv6.15.20//NONSGML v1.0//EN
CALSCALE:GREGORIAN
METHOD:PUBLISH
X-ORIGINAL-URL:https://zoofolk.blog
X-WR-CALDESC:Events for 
REFRESH-INTERVAL;VALUE=DURATION:PT1H
X-Robots-Tag:noindex
X-PUBLISHED-TTL:PT1H
BEGIN:VTIMEZONE
TZID:America/Chicago
BEGIN:DAYLIGHT
TZOFFSETFROM:-0600
TZOFFSETTO:-0500
TZNAME:CDT
DTSTART:20230312T080000
END:DAYLIGHT
BEGIN:STANDARD
TZOFFSETFROM:-0500
TZOFFSETTO:-0600
TZNAME:CST
DTSTART:20231105T070000
END:STANDARD
BEGIN:DAYLIGHT
TZOFFSETFROM:-0600
TZOFFSETTO:-0500
TZNAME:CDT
DTSTART:20240310T080000
END:DAYLIGHT
BEGIN:STANDARD
TZOFFSETFROM:-0500
TZOFFSETTO:-0600
TZNAME:CST
DTSTART:20241103T070000
END:STANDARD
BEGIN:DAYLIGHT
TZOFFSETFROM:-0600
TZOFFSETTO:-0500
TZNAME:CDT
DTSTART:20250309T080000
END:DAYLIGHT
BEGIN:STANDARD
TZOFFSETFROM:-0500
TZOFFSETTO:-0600
TZNAME:CST
DTSTART:20251102T070000
END:STANDARD
END:VTIMEZONE
BEGIN:VEVENT
DTSTART;VALUE=DATE:20240929
DTEND;VALUE=DATE:20241002
DTSTAMP:20260424T175501
CREATED:20240507T230307Z
LAST-MODIFIED:20240507T230307Z
UID:2566-1727568000-1727827199@zoofolk.blog
SUMMARY:International Raccoon Appreciation Day
DESCRIPTION:On International Raccoon Appreciation Day it encourages people to learn more about raccoons and show appreciation for them. \nRaccoon
URL:https://zoofolk.blog/event/international-raccoon-appreciation-day/
END:VEVENT
BEGIN:VEVENT
DTSTART;VALUE=DATE:20241004
DTEND;VALUE=DATE:20241005
DTSTAMP:20260424T175501
CREATED:20240507T230805Z
LAST-MODIFIED:20240507T230954Z
UID:2569-1728000000-1728086399@zoofolk.blog
SUMMARY:World Animal Day
DESCRIPTION:For this day animal lovers unite to educate others and advocate for action against animal cruelty\, neglect and any unfair treatment of animals.
URL:https://zoofolk.blog/event/world-animal-day/
END:VEVENT
BEGIN:VEVENT
DTSTART;VALUE=DATE:20241006
DTEND;VALUE=DATE:20241007
DTSTAMP:20260424T175501
CREATED:20240507T231520Z
LAST-MODIFIED:20240507T231520Z
UID:2571-1728172800-1728259199@zoofolk.blog
SUMMARY:National Badger Day
DESCRIPTION:The “National” in this day is for the United Kingdom \, though some other European countries like Germany also celebrate it.  I am hoping we can have a US National Badger Day!  Who’s with me\, at least Wisconsin! \nAmerican Badger
URL:https://zoofolk.blog/event/national-badger-day/
END:VEVENT
BEGIN:VEVENT
DTSTART;VALUE=DATE:20241008
DTEND;VALUE=DATE:20241009
DTSTAMP:20260424T175501
CREATED:20240507T232031Z
LAST-MODIFIED:20240507T232031Z
UID:2574-1728345600-1728431999@zoofolk.blog
SUMMARY:World Octopus Day
DESCRIPTION:This is a special occasion dedicated to one of the most fascinating creatures on our planet: the octopus.  Probably the smartest invertebrate in the world. \n \nGiant Pacific Octopus
URL:https://zoofolk.blog/event/world-octopus-day/
END:VEVENT
BEGIN:VEVENT
DTSTART;VALUE=DATE:20241020
DTEND;VALUE=DATE:20241021
DTSTAMP:20260424T175501
CREATED:20240507T232537Z
LAST-MODIFIED:20240508T154111Z
UID:2577-1729382400-1729468799@zoofolk.blog
SUMMARY:International Sloth Day
DESCRIPTION:On this day\, we celebrate these enigmatic creatures and raise awareness for their species\, some of which are critically endangered. Also a time to SLOW DOWN!\n \n \nLinnaeus’s Two-Toed Sloth
URL:https://zoofolk.blog/event/international-sloth-day/
END:VEVENT
BEGIN:VEVENT
DTSTART;VALUE=DATE:20241021
DTEND;VALUE=DATE:20241022
DTSTAMP:20260424T175501
CREATED:20240508T151925Z
LAST-MODIFIED:20240508T152007Z
UID:2581-1729468800-1729555199@zoofolk.blog
SUMMARY:National Reptile Awareness Day
DESCRIPTION:The purpose of the day is to shine a light on these highly beneficial species and the threats they face across the US. Reptiles\, which serve as both predators and prey\, are crucial members of ecosystems\, playing an integral role in energy dynamics\, regulating pests\, and more. \nAmerican Alligator\nEastern Diamond Back Rattlesnake\nBlue Iguana\nTurtle
URL:https://zoofolk.blog/event/national-reptile-awareness-day/
END:VEVENT
BEGIN:VEVENT
DTSTART;VALUE=DATE:20241024
DTEND;VALUE=DATE:20241025
DTSTAMP:20260424T175501
CREATED:20240508T152545Z
LAST-MODIFIED:20241104T164558Z
UID:2583-1729728000-1729814399@zoofolk.blog
SUMMARY:World Kangaroo Day
DESCRIPTION:The mission of this day is to create an international day to celebrate Australia’s national icon. \nRed Kangaroos
URL:https://zoofolk.blog/event/world-kangaroo-day/
END:VEVENT
BEGIN:VEVENT
DTSTART;VALUE=DATE:20241025
DTEND;VALUE=DATE:20241026
DTSTAMP:20260424T175501
CREATED:20240508T153158Z
LAST-MODIFIED:20240508T153158Z
UID:2585-1729814400-1729900799@zoofolk.blog
SUMMARY:World Lemur Day
DESCRIPTION:World Lemur Day raises awareness about the need to protect this unique primate. The day also celebrates lemur diversity.  \nCoquerel’s Sifaka\nBlack and White Ruffed Lemur\nRinged-Tailed Lemur
URL:https://zoofolk.blog/event/world-lemur-day/
END:VEVENT
END:VCALENDAR