BEGIN:VCALENDAR
VERSION:2.0
PRODID:-// - ECPv6.15.20//NONSGML v1.0//EN
CALSCALE:GREGORIAN
METHOD:PUBLISH
X-ORIGINAL-URL:https://zoofolk.blog
X-WR-CALDESC:Events for 
REFRESH-INTERVAL;VALUE=DURATION:PT1H
X-Robots-Tag:noindex
X-PUBLISHED-TTL:PT1H
BEGIN:VTIMEZONE
TZID:America/Chicago
BEGIN:DAYLIGHT
TZOFFSETFROM:-0600
TZOFFSETTO:-0500
TZNAME:CDT
DTSTART:20230312T080000
END:DAYLIGHT
BEGIN:STANDARD
TZOFFSETFROM:-0500
TZOFFSETTO:-0600
TZNAME:CST
DTSTART:20231105T070000
END:STANDARD
BEGIN:DAYLIGHT
TZOFFSETFROM:-0600
TZOFFSETTO:-0500
TZNAME:CDT
DTSTART:20240310T080000
END:DAYLIGHT
BEGIN:STANDARD
TZOFFSETFROM:-0500
TZOFFSETTO:-0600
TZNAME:CST
DTSTART:20241103T070000
END:STANDARD
BEGIN:DAYLIGHT
TZOFFSETFROM:-0600
TZOFFSETTO:-0500
TZNAME:CDT
DTSTART:20250309T080000
END:DAYLIGHT
BEGIN:STANDARD
TZOFFSETFROM:-0500
TZOFFSETTO:-0600
TZNAME:CST
DTSTART:20251102T070000
END:STANDARD
END:VTIMEZONE
BEGIN:VEVENT
DTSTART;VALUE=DATE:20240913
DTEND;VALUE=DATE:20240914
DTSTAMP:20260424T083229
CREATED:20240516T144058Z
LAST-MODIFIED:20240516T144058Z
UID:2689-1726185600-1726271999@zoofolk.blog
SUMMARY:International Slow-Loris Day
DESCRIPTION:This day is to learn more about the Slow-Loris\, one of the few venomous mammals. \n 
URL:https://zoofolk.blog/event/international-slow-loris-day/
END:VEVENT
BEGIN:VEVENT
DTSTART;VALUE=DATE:20240907
DTEND;VALUE=DATE:20240908
DTSTAMP:20260424T083229
CREATED:20240428T144018Z
LAST-MODIFIED:20240428T144018Z
UID:2392-1725667200-1725753599@zoofolk.blog
SUMMARY:National Hummingbird Day
DESCRIPTION:This day is set aside to honor the smallest birds that play an important part as pollinators. \nRuby-Throated Hummingbird
URL:https://zoofolk.blog/event/national-hummingbird-day/
END:VEVENT
BEGIN:VEVENT
DTSTART;VALUE=DATE:20240907
DTEND;VALUE=DATE:20240908
DTSTAMP:20260424T083229
CREATED:20240428T143422Z
LAST-MODIFIED:20240428T143422Z
UID:2390-1725667200-1725753599@zoofolk.blog
SUMMARY:International Vulture Awareness Day
DESCRIPTION:International Vulture Awareness Day celebrates an often maligned but keystone group\, with emphasis on there place in nature and their plight across the world! \nCalifornia Condors\nAndy N. Condor (Andean Condor)\nBearded Vultures\nCape Vulture
URL:https://zoofolk.blog/event/international-vulture-awareness-day/
END:VEVENT
BEGIN:VEVENT
DTSTART;VALUE=DATE:20240831
DTEND;VALUE=DATE:20240901
DTSTAMP:20260424T083229
CREATED:20240428T142758Z
LAST-MODIFIED:20240428T142758Z
UID:2388-1725062400-1725148799@zoofolk.blog
SUMMARY:National Zoo Awareness Day
DESCRIPTION:National Zoo Awareness Day is a way to recognize the important role that zoos play in preserving and protecting endangered species\, teaching conservation lessons\, and bringing people closer to nature.
URL:https://zoofolk.blog/event/national-zoo-awareness-day/
END:VEVENT
BEGIN:VEVENT
DTSTART;VALUE=DATE:20240826
DTEND;VALUE=DATE:20240827
DTSTAMP:20260424T083229
CREATED:20240516T143529Z
LAST-MODIFIED:20240516T143529Z
UID:2687-1724630400-1724716799@zoofolk.blog
SUMMARY:World Painted Dog Day
DESCRIPTION:This day is for appreciating and learning about Painted Dogs\, also known as African wild dogs.  They are facing many challenges including distemper and habitat loss.
URL:https://zoofolk.blog/event/world-painted-dog-day/
END:VEVENT
BEGIN:VEVENT
DTSTART;VALUE=DATE:20240824
DTEND;VALUE=DATE:20240826
DTSTAMP:20260424T083229
CREATED:20240428T142136Z
LAST-MODIFIED:20240428T142155Z
UID:2385-1724457600-1724630399@zoofolk.blog
SUMMARY:International Bat Night
DESCRIPTION:An international day to promote the importance of bats and their current plights. \n \nSmall-Footed Bat
URL:https://zoofolk.blog/event/international-bat-night/
END:VEVENT
BEGIN:VEVENT
DTSTART;VALUE=DATE:20240819
DTEND;VALUE=DATE:20240820
DTSTAMP:20260424T083229
CREATED:20240428T131149Z
LAST-MODIFIED:20240428T131149Z
UID:2382-1724025600-1724111999@zoofolk.blog
SUMMARY:International Orangutan Day
DESCRIPTION:This day is meant to inspire people everywhere to take action to protect orangutans in the wild and care for orphaned and displaced orangutans being looked after at rescue centers in Borneo and Sumatra. \nBorneo Orangutan
URL:https://zoofolk.blog/event/international-orangutan-day/
END:VEVENT
END:VCALENDAR