BEGIN:VCALENDAR
VERSION:2.0
PRODID:-// - ECPv6.15.20//NONSGML v1.0//EN
CALSCALE:GREGORIAN
METHOD:PUBLISH
X-ORIGINAL-URL:https://zoofolk.blog
X-WR-CALDESC:Events for 
REFRESH-INTERVAL;VALUE=DURATION:PT1H
X-Robots-Tag:noindex
X-PUBLISHED-TTL:PT1H
BEGIN:VTIMEZONE
TZID:America/Chicago
BEGIN:DAYLIGHT
TZOFFSETFROM:-0600
TZOFFSETTO:-0500
TZNAME:CDT
DTSTART:20230312T080000
END:DAYLIGHT
BEGIN:STANDARD
TZOFFSETFROM:-0500
TZOFFSETTO:-0600
TZNAME:CST
DTSTART:20231105T070000
END:STANDARD
BEGIN:DAYLIGHT
TZOFFSETFROM:-0600
TZOFFSETTO:-0500
TZNAME:CDT
DTSTART:20240310T080000
END:DAYLIGHT
BEGIN:STANDARD
TZOFFSETFROM:-0500
TZOFFSETTO:-0600
TZNAME:CST
DTSTART:20241103T070000
END:STANDARD
BEGIN:DAYLIGHT
TZOFFSETFROM:-0600
TZOFFSETTO:-0500
TZNAME:CDT
DTSTART:20250309T080000
END:DAYLIGHT
BEGIN:STANDARD
TZOFFSETFROM:-0500
TZOFFSETTO:-0600
TZNAME:CST
DTSTART:20251102T070000
END:STANDARD
BEGIN:DAYLIGHT
TZOFFSETFROM:-0600
TZOFFSETTO:-0500
TZNAME:CDT
DTSTART:20260308T080000
END:DAYLIGHT
BEGIN:STANDARD
TZOFFSETFROM:-0500
TZOFFSETTO:-0600
TZNAME:CST
DTSTART:20261101T070000
END:STANDARD
END:VTIMEZONE
BEGIN:VEVENT
DTSTART;VALUE=DATE:20250612
DTEND;VALUE=DATE:20250613
DTSTAMP:20260423T181210
CREATED:20240604T221049Z
LAST-MODIFIED:20250607T011000Z
UID:2732-1749686400-1749772799@zoofolk.blog
SUMMARY:National Cougar Day
DESCRIPTION:National Cougar Day is to celebrate the cougar which once roamed over the entire United States\, but has been extirpated from most of it’s eastern range.
URL:https://zoofolk.blog/event/national-cougar-day/
END:VEVENT
BEGIN:VEVENT
DTSTART;VALUE=DATE:20250608
DTEND;VALUE=DATE:20250609
DTSTAMP:20260423T181210
CREATED:20240604T211822Z
LAST-MODIFIED:20250607T013158Z
UID:2727-1749340800-1749427199@zoofolk.blog
SUMMARY:World Ocean Day
DESCRIPTION:This day is to help unite and rally the world to protect and restore our blue planet! \nMuch of the oceans look like deserts\, with any life under the waves. \nThe Pacific Ocean
URL:https://zoofolk.blog/event/world-ocean-day/
END:VEVENT
BEGIN:VEVENT
DTSTART;VALUE=DATE:20250607
DTEND;VALUE=DATE:20250608
DTSTAMP:20260423T181210
CREATED:20240426T154055Z
LAST-MODIFIED:20250306T214225Z
UID:2354-1749254400-1749340799@zoofolk.blog
SUMMARY:National Black Bear Day
DESCRIPTION:This celebrates the most common bear in North America\, the American black bear.  At one time they occurred in all 50 states except Hawaii.  Now they have been extirpated in several of the plains states and north eastern states. \nAmerican Black Bear
URL:https://zoofolk.blog/event/national-black-bear-day/
END:VEVENT
BEGIN:VEVENT
DTSTART;VALUE=DATE:20250531
DTEND;VALUE=DATE:20250601
DTSTAMP:20260423T181210
CREATED:20240426T153347Z
LAST-MODIFIED:20250306T214102Z
UID:2352-1748649600-1748735999@zoofolk.blog
SUMMARY:World Parrot Day
DESCRIPTION:This day was designed to promote parrots and highlight the threats they face in the wild.  Some of the threats they face are deforestation and capture for the pet trade. \nIf you are thinking about getting a type of parrot\, even a small parrot like a conure\, remember they can live well over 30 years\, attach to their owner\, and most can be loud.  Always buy parrots from a reputable breeder. \nGreen Winged Macaw\nKea (probably my favorite parrot)
URL:https://zoofolk.blog/event/world-parrot-day/
END:VEVENT
BEGIN:VEVENT
DTSTART;VALUE=DATE:20250529
DTEND;VALUE=DATE:20250530
DTSTAMP:20260423T181210
CREATED:20240426T152503Z
LAST-MODIFIED:20250306T213943Z
UID:2349-1748476800-1748563199@zoofolk.blog
SUMMARY:National Alligator Day
DESCRIPTION:This day is designed to improve awareness of the American Alligator. \nAmerican Alligator
URL:https://zoofolk.blog/event/national-alligator-day/
END:VEVENT
BEGIN:VEVENT
DTSTART;VALUE=DATE:20250528
DTEND;VALUE=DATE:20250529
DTSTAMP:20260423T181210
CREATED:20240426T150951Z
LAST-MODIFIED:20250306T213838Z
UID:2345-1748390400-1748476799@zoofolk.blog
SUMMARY:World Otter Day
DESCRIPTION:This day was established by the International Otter Survival Fund. It was designed to help draw attention to otters\, celebrate them\, and raise awareness and support for their conservation globally.  For example\, the giant otter of South America.
URL:https://zoofolk.blog/event/world-otter-day/
END:VEVENT
BEGIN:VEVENT
DTSTART;VALUE=DATE:20250523
DTEND;VALUE=DATE:20250524
DTSTAMP:20260423T181210
CREATED:20240426T145238Z
LAST-MODIFIED:20250306T213541Z
UID:2340-1747958400-1748044799@zoofolk.blog
SUMMARY:World Turtle Day
DESCRIPTION:This was established by…American TORTOISE rescue.  It is designed to raise awareness of turtle and tortoise conservation.  This year I believe the theme is on sea turtles.
URL:https://zoofolk.blog/event/world-turtle-day/
END:VEVENT
BEGIN:VEVENT
DTSTART;VALUE=DATE:20250520
DTEND;VALUE=DATE:20250521
DTSTAMP:20260423T181210
CREATED:20240426T144704Z
LAST-MODIFIED:20250306T213431Z
UID:2338-1747699200-1747785599@zoofolk.blog
SUMMARY:World Bee Day
DESCRIPTION:I don’t do much with insects but bees are such incredibly important insects\, I wanted to post their day!!
URL:https://zoofolk.blog/event/world-bee-day/
END:VEVENT
BEGIN:VEVENT
DTSTART;VALUE=DATE:20250516
DTEND;VALUE=DATE:20250517
DTSTAMP:20260423T181210
CREATED:20240425T223330Z
LAST-MODIFIED:20250306T213313Z
UID:2331-1747353600-1747439999@zoofolk.blog
SUMMARY:National Endangered Species Day
DESCRIPTION:This is a day to recognize all the endangered species and the effects on the biodiversity of the planet.  For example both these species are extinct in the wild. \nGuam Kingfisher\nSocorro Dove
URL:https://zoofolk.blog/event/national-endangered-species-day/
END:VEVENT
BEGIN:VEVENT
DTSTART;VALUE=DATE:20250510
DTEND;VALUE=DATE:20250512
DTSTAMP:20260423T181210
CREATED:20240426T144352Z
LAST-MODIFIED:20250219T180502Z
UID:2334-1746835200-1747007999@zoofolk.blog
SUMMARY:World Migratory Bird Day
DESCRIPTION:This is a special day for bird watchers. \nTurkey and Black Vultures
URL:https://zoofolk.blog/event/world-migratory-bird-day/
END:VEVENT
BEGIN:VEVENT
DTSTART;VALUE=DATE:20250503
DTEND;VALUE=DATE:20250504
DTSTAMP:20260423T181210
CREATED:20240425T222111Z
LAST-MODIFIED:20250219T174432Z
UID:2328-1746230400-1746316799@zoofolk.blog
SUMMARY:Wild Koala Day
DESCRIPTION:A day to celebrate wild koalas and protect their habitats. \nUnfortunately I have no photos of wild koalas
URL:https://zoofolk.blog/event/wild-koala-day/
END:VEVENT
BEGIN:VEVENT
DTSTART;VALUE=DATE:20250501
DTEND;VALUE=DATE:20250502
DTSTAMP:20260423T181210
CREATED:20240425T215840Z
LAST-MODIFIED:20250219T174245Z
UID:2326-1746057600-1746143999@zoofolk.blog
SUMMARY:Save the Rhino Day
DESCRIPTION:This is a day not only to bring awareness and education about what exactly is happening with these wonderful animals (all 5 species are either endangered or critically endangered) but to also learn new things about these animals and celebrate them. \nBlack Rhinoceros
URL:https://zoofolk.blog/event/save-the-rhino-day/
END:VEVENT
BEGIN:VEVENT
DTSTART;VALUE=DATE:20250428
DTEND;VALUE=DATE:20250429
DTSTAMP:20260423T181210
CREATED:20240425T215028Z
LAST-MODIFIED:20241126T125523Z
UID:2324-1745798400-1745884799@zoofolk.blog
SUMMARY:Save the Frogs Day
DESCRIPTION:This is the world’s largest day of amphibian education and conservation action.
URL:https://zoofolk.blog/event/save-the-frogs-day/
END:VEVENT
BEGIN:VEVENT
DTSTART;VALUE=DATE:20250427
DTEND;VALUE=DATE:20250428
DTSTAMP:20260423T181210
CREATED:20240428T123137Z
LAST-MODIFIED:20241126T125432Z
UID:2369-1745712000-1745798399@zoofolk.blog
SUMMARY:International Hyena Day
DESCRIPTION:It’s a day to honor the hyena as an important predator and scavenger. \nSpotted Hyena
URL:https://zoofolk.blog/event/international-hyena-day/
END:VEVENT
BEGIN:VEVENT
DTSTART;VALUE=DATE:20250427
DTEND;VALUE=DATE:20250428
DTSTAMP:20260423T181210
CREATED:20240427T150000Z
LAST-MODIFIED:20241126T124907Z
UID:2319-1745712000-1745798399@zoofolk.blog
SUMMARY:World Tapir Day
DESCRIPTION:There are 4 species of tapir\, all except for the Brazilian tapir they are all endangered species. \n \nMalayan Tapir
URL:https://zoofolk.blog/event/world-tapir-day/
END:VEVENT
BEGIN:VEVENT
DTSTART;VALUE=DATE:20250425
DTEND;VALUE=DATE:20250426
DTSTAMP:20260423T181210
CREATED:20241103T203527Z
LAST-MODIFIED:20241103T203527Z
UID:3366-1745539200-1745625599@zoofolk.blog
SUMMARY:World Penguin Day
DESCRIPTION:World Penguin Day recognizes one of the unique birds on the planet. \nGentoo Penguins
URL:https://zoofolk.blog/event/world-penguin-day/
END:VEVENT
BEGIN:VEVENT
DTSTART;VALUE=DATE:20250423
DTEND;VALUE=DATE:20250424
DTSTAMP:20260423T181210
CREATED:20241126T124748Z
LAST-MODIFIED:20241126T124748Z
UID:3500-1745366400-1745452799@zoofolk.blog
SUMMARY:International Pallas's Cat Day
DESCRIPTION:The day is dedicated to raising awareness about the Pallas’s cat\, a small wild cat that lives in the grasslands and steppes of Central Asia. 
URL:https://zoofolk.blog/event/international-pallass-cat-day/
END:VEVENT
BEGIN:VEVENT
DTSTART;VALUE=DATE:20250422
DTEND;VALUE=DATE:20250423
DTSTAMP:20260423T181210
CREATED:20250327T171243Z
LAST-MODIFIED:20250327T171243Z
UID:4094-1745280000-1745366399@zoofolk.blog
SUMMARY:Earth Day
DESCRIPTION:Earth Day is a day to appreciate the Earth and ALL the creatures that call it home. \nThis years theme is “Our Power\, Our Planet\,” focusing on the transition to renewable energy and aiming to triple global electricity generation from renewable sources by 2030.  \n \nPower County Wind Farm
URL:https://zoofolk.blog/event/earth-day/
END:VEVENT
BEGIN:VEVENT
DTSTART;VALUE=DATE:20250417
DTEND;VALUE=DATE:20250418
DTSTAMP:20260423T181210
CREATED:20241126T124417Z
LAST-MODIFIED:20241126T124458Z
UID:3497-1744848000-1744934399@zoofolk.blog
SUMMARY:International Bat Appreciation Day
DESCRIPTION:It’s a day to learn about bats and their important roles in nature and in our daily lives.
URL:https://zoofolk.blog/event/international-bat-appreciation-day/
END:VEVENT
BEGIN:VEVENT
DTSTART;VALUE=DATE:20250414
DTEND;VALUE=DATE:20250415
DTSTAMP:20260423T181210
CREATED:20250306T221543Z
LAST-MODIFIED:20250306T221543Z
UID:3886-1744588800-1744675199@zoofolk.blog
SUMMARY:National Dolphin Day
DESCRIPTION:This is a day to celebrate and learn about these the amazing dolphins.
URL:https://zoofolk.blog/event/national-dolphin-day/
END:VEVENT
BEGIN:VEVENT
DTSTART;VALUE=DATE:20250408
DTEND;VALUE=DATE:20250409
DTSTAMP:20260423T181210
CREATED:20250306T220925Z
LAST-MODIFIED:20250306T220925Z
UID:3882-1744070400-1744156799@zoofolk.blog
SUMMARY:National Zoo Lovers Day
DESCRIPTION:National Zoo Lovers Day celebrates animals and the important role zoos play in their conservation.
URL:https://zoofolk.blog/event/national-zoo-lovers-day/
END:VEVENT
BEGIN:VEVENT
DTSTART;VALUE=DATE:20250408
DTEND;VALUE=DATE:20250409
DTSTAMP:20260423T181210
CREATED:20250306T220555Z
LAST-MODIFIED:20250306T220555Z
UID:3880-1744070400-1744156799@zoofolk.blog
SUMMARY:Pygmy Hippo Day
DESCRIPTION:This day is used to increase awareness of the endangered pygmy hippopotamus \nPygmy Hippopotamus
URL:https://zoofolk.blog/event/pygmy-hippo-day/
END:VEVENT
BEGIN:VEVENT
DTSTART;VALUE=DATE:20250407
DTEND;VALUE=DATE:20250408
DTSTAMP:20260423T181210
CREATED:20241103T204336Z
LAST-MODIFIED:20241103T204336Z
UID:3368-1743984000-1744070399@zoofolk.blog
SUMMARY:International Beaver Day
DESCRIPTION:This day honors beavers and the people who study them.
URL:https://zoofolk.blog/event/international-beaver-day/
END:VEVENT
BEGIN:VEVENT
DTSTART;VALUE=DATE:20250105
DTEND;VALUE=DATE:20250106
DTSTAMP:20260423T181210
CREATED:20241011T152150Z
LAST-MODIFIED:20241011T152150Z
UID:3318-1736035200-1736121599@zoofolk.blog
SUMMARY:National Bird Day
DESCRIPTION:This day is for bird-watchers\, and is the last day of the US Christmas Bird Count. \nTurkey Vulture
URL:https://zoofolk.blog/event/national-bird-day/
END:VEVENT
BEGIN:VEVENT
DTSTART;VALUE=DATE:20241227
DTEND;VALUE=DATE:20241228
DTSTAMP:20260423T181210
CREATED:20240509T234841Z
LAST-MODIFIED:20240509T234841Z
UID:2682-1735257600-1735343999@zoofolk.blog
SUMMARY:Visit The Zoo Day
DESCRIPTION:The name speaks for itself.  However\, it’s origin is a bit sketchy. \nZoos I’ve written about in 2024.
URL:https://zoofolk.blog/event/visit-the-zoo-day/
END:VEVENT
BEGIN:VEVENT
DTSTART;VALUE=DATE:20241214
DTEND;VALUE=DATE:20241215
DTSTAMP:20260423T181210
CREATED:20240509T233959Z
LAST-MODIFIED:20240509T233959Z
UID:2680-1734134400-1734220799@zoofolk.blog
SUMMARY:Monkey Day
DESCRIPTION:Monkey Day celebrates monkeys and “all things simian”\, including other non-human primates such as apes\, tarsiers\, and lemurs. Monkey Day is celebrated worldwide and often also known as World Monkey Day and International Monkey Day. \nSquirrel Monkey\nJapanese Macaque
URL:https://zoofolk.blog/event/monkey-day/
END:VEVENT
BEGIN:VEVENT
DTSTART;VALUE=DATE:20241209
DTEND;VALUE=DATE:20241210
DTSTAMP:20260423T181210
CREATED:20240509T233226Z
LAST-MODIFIED:20240509T233226Z
UID:2678-1733702400-1733788799@zoofolk.blog
SUMMARY:National Llama Day
DESCRIPTION:Llama Day celebrates llamas for their friendly demeanor and fluffy appearance\, llamas make great pack animals and even therapy animals due to their calming presence.  \nLlama
URL:https://zoofolk.blog/event/national-llama-day/
END:VEVENT
BEGIN:VEVENT
DTSTART;VALUE=DATE:20241204
DTEND;VALUE=DATE:20241205
DTSTAMP:20260423T181210
CREATED:20240509T232623Z
LAST-MODIFIED:20240511T221437Z
UID:2676-1733270400-1733356799@zoofolk.blog
SUMMARY:Wildlife Conservation Day
DESCRIPTION:Wildlife Conservation Day seeks to spread awareness about preserving and protecting the natural world and its inhabitants. Additionally\, the observance strives to put an end to wildlife crime and supporting the Endangered Species Act. This day is sometimes called National Conservation Day\, since World Wildlife Day is in March.\n \nHellbender\nBlack Rhinoceros\nAldabra Giant Tortoise\nGuam Kingfisher (extinct in the wild)
URL:https://zoofolk.blog/event/wildlife-conservation-day/
END:VEVENT
BEGIN:VEVENT
DTSTART;VALUE=DATE:20241204
DTEND;VALUE=DATE:20241205
DTSTAMP:20260423T181210
CREATED:20240509T231859Z
LAST-MODIFIED:20240509T231859Z
UID:2674-1733270400-1733356799@zoofolk.blog
SUMMARY:International Cheetah Day
DESCRIPTION:International Cheetah Day is a day to raise awareness of cheetahs\, focus on their conservation\, and celebrate their unique adaptations and importance to the ecosystem. \n \nCheetah
URL:https://zoofolk.blog/event/international-cheetah-day/
END:VEVENT
BEGIN:VEVENT
DTSTART;VALUE=DATE:20241129
DTEND;VALUE=DATE:20241130
DTSTAMP:20260423T181210
CREATED:20241104T170855Z
LAST-MODIFIED:20241104T171114Z
UID:3372-1732838400-1732924799@zoofolk.blog
SUMMARY:International Jaguar Day
DESCRIPTION:International Jaguar Day was created to raise awareness about the increasing threats facing the jaguar and the critical conservation efforts ensuring its survival from Mexico to Argentina.
URL:https://zoofolk.blog/event/international-jaguar-day/
END:VEVENT
END:VCALENDAR