BEGIN:VCALENDAR
VERSION:2.0
PRODID:-// - ECPv6.15.20//NONSGML v1.0//EN
CALSCALE:GREGORIAN
METHOD:PUBLISH
X-ORIGINAL-URL:https://zoofolk.blog
X-WR-CALDESC:Events for 
REFRESH-INTERVAL;VALUE=DURATION:PT1H
X-Robots-Tag:noindex
X-PUBLISHED-TTL:PT1H
BEGIN:VTIMEZONE
TZID:America/Chicago
BEGIN:DAYLIGHT
TZOFFSETFROM:-0600
TZOFFSETTO:-0500
TZNAME:CDT
DTSTART:20250309T080000
END:DAYLIGHT
BEGIN:STANDARD
TZOFFSETFROM:-0500
TZOFFSETTO:-0600
TZNAME:CST
DTSTART:20251102T070000
END:STANDARD
BEGIN:DAYLIGHT
TZOFFSETFROM:-0600
TZOFFSETTO:-0500
TZNAME:CDT
DTSTART:20260308T080000
END:DAYLIGHT
BEGIN:STANDARD
TZOFFSETFROM:-0500
TZOFFSETTO:-0600
TZNAME:CST
DTSTART:20261101T070000
END:STANDARD
BEGIN:DAYLIGHT
TZOFFSETFROM:-0600
TZOFFSETTO:-0500
TZNAME:CDT
DTSTART:20270314T080000
END:DAYLIGHT
BEGIN:STANDARD
TZOFFSETFROM:-0500
TZOFFSETTO:-0600
TZNAME:CST
DTSTART:20271107T070000
END:STANDARD
END:VTIMEZONE
BEGIN:VEVENT
DTSTART;VALUE=DATE:20260528
DTEND;VALUE=DATE:20260529
DTSTAMP:20260423T163954
CREATED:20240426T145909Z
LAST-MODIFIED:20260109T020229Z
UID:2342-1779926400-1780012799@zoofolk.blog
SUMMARY:Whooping Crane Day
DESCRIPTION:Whooping Crane Day is designed to show our appreciation of the rarest crane in the world\, and one of the most rare birds in North America. \nWhooping Crane
URL:https://zoofolk.blog/event/whooping-crane-day/
END:VEVENT
BEGIN:VEVENT
DTSTART;VALUE=DATE:20260723
DTEND;VALUE=DATE:20260724
DTSTAMP:20260423T163954
CREATED:20260109T021650Z
LAST-MODIFIED:20260109T021650Z
UID:4137-1784764800-1784851199@zoofolk.blog
SUMMARY:World Whale and Dolphin Day
DESCRIPTION:World Whale and Dolphin Day was established to raise awareness about protecting whales\, dolphins\, and other marine mammals from threats like pollution and whaling. \n \nJuly 23\, 1982 was when the IWC put a moratorium commercial whaling.
URL:https://zoofolk.blog/event/world-whale-and-dolphin-day/
END:VEVENT
END:VCALENDAR