BEGIN:VCALENDAR
VERSION:2.0
PRODID:-// - ECPv6.15.20//NONSGML v1.0//EN
CALSCALE:GREGORIAN
METHOD:PUBLISH
X-ORIGINAL-URL:https://zoofolk.blog
X-WR-CALDESC:Events for 
REFRESH-INTERVAL;VALUE=DURATION:PT1H
X-Robots-Tag:noindex
X-PUBLISHED-TTL:PT1H
BEGIN:VTIMEZONE
TZID:America/Chicago
BEGIN:DAYLIGHT
TZOFFSETFROM:-0600
TZOFFSETTO:-0500
TZNAME:CDT
DTSTART:20250309T080000
END:DAYLIGHT
BEGIN:STANDARD
TZOFFSETFROM:-0500
TZOFFSETTO:-0600
TZNAME:CST
DTSTART:20251102T070000
END:STANDARD
BEGIN:DAYLIGHT
TZOFFSETFROM:-0600
TZOFFSETTO:-0500
TZNAME:CDT
DTSTART:20260308T080000
END:DAYLIGHT
BEGIN:STANDARD
TZOFFSETFROM:-0500
TZOFFSETTO:-0600
TZNAME:CST
DTSTART:20261101T070000
END:STANDARD
BEGIN:DAYLIGHT
TZOFFSETFROM:-0600
TZOFFSETTO:-0500
TZNAME:CDT
DTSTART:20270314T080000
END:DAYLIGHT
BEGIN:STANDARD
TZOFFSETFROM:-0500
TZOFFSETTO:-0600
TZNAME:CST
DTSTART:20271107T070000
END:STANDARD
END:VTIMEZONE
BEGIN:VEVENT
DTSTART;VALUE=DATE:20260303
DTEND;VALUE=DATE:20260304
DTSTAMP:20260423T181704
CREATED:20241011T170517Z
LAST-MODIFIED:20260109T020600Z
UID:3340-1772496000-1772582399@zoofolk.blog
SUMMARY:World Wildlife Day
DESCRIPTION:World Wildlife Day is essential in bringing awareness to the wild animals and the natural habitat they live in.
URL:https://zoofolk.blog/event/world-wildlife-day/
END:VEVENT
BEGIN:VEVENT
DTSTART;VALUE=DATE:20260309
DTEND;VALUE=DATE:20260310
DTSTAMP:20260423T181704
CREATED:20250306T215708Z
LAST-MODIFIED:20260109T020816Z
UID:3876-1773014400-1773100799@zoofolk.blog
SUMMARY:National American Paddlefish Day
DESCRIPTION:This day is designed to raise awareness of this prehistoric fish. \n 
URL:https://zoofolk.blog/event/national-american-paddlefish-day/
END:VEVENT
BEGIN:VEVENT
DTSTART;VALUE=DATE:20260314
DTEND;VALUE=DATE:20260315
DTSTAMP:20260423T181704
CREATED:20241011T171020Z
LAST-MODIFIED:20260109T021000Z
UID:3342-1773446400-1773532799@zoofolk.blog
SUMMARY:National Learn About Butterflies Day
DESCRIPTION:Learn About Butterflies Day is an international day that is for learning more about these important creatures.  Not just pretty but also an important pollinator.
URL:https://zoofolk.blog/event/learn-about-butterflies-day/
END:VEVENT
BEGIN:VEVENT
DTSTART;VALUE=DATE:20260315
DTEND;VALUE=DATE:20260316
DTSTAMP:20260423T181704
CREATED:20241011T171701Z
LAST-MODIFIED:20260109T021824Z
UID:3344-1773532800-1773619199@zoofolk.blog
SUMMARY:National Buzzards Day
DESCRIPTION:This day celebrates turkey vultures that are often called buzzards in the United States.  This was in honor of turkey vultures coming back to their roost trees in Hinckley Ridge Ohio. \nTurkey Vultures
URL:https://zoofolk.blog/event/national-buzzards-day/
END:VEVENT
BEGIN:VEVENT
DTSTART;VALUE=DATE:20260316
DTEND;VALUE=DATE:20260317
DTSTAMP:20260423T181704
CREATED:20241011T172106Z
LAST-MODIFIED:20260109T021949Z
UID:3346-1773619200-1773705599@zoofolk.blog
SUMMARY:National Panda Day
DESCRIPTION:This day is celebrated annually to raise awareness of the giant panda\, a beloved species that faces threats from habitat loss and fragmentation.
URL:https://zoofolk.blog/event/national-panda-day/
END:VEVENT
BEGIN:VEVENT
DTSTART;VALUE=DATE:20260318
DTEND;VALUE=DATE:20260319
DTSTAMP:20260423T181704
CREATED:20250327T170147Z
LAST-MODIFIED:20250327T170147Z
UID:4092-1773792000-1773878399@zoofolk.blog
SUMMARY:World Serval Day
DESCRIPTION:World Serval Day is to raise awareness about the serval\, a wild cat native to Africa\, and to highlight the concerns surrounding the breeding of servals with domestic cats for the “designer pet” trade\, particularly the production of Savannah cats. \nKODAK Digital Still Camera
URL:https://zoofolk.blog/event/world-serval-day/
END:VEVENT
BEGIN:VEVENT
DTSTART;VALUE=DATE:20260320
DTEND;VALUE=DATE:20260321
DTSTAMP:20260423T181704
CREATED:20241011T172735Z
LAST-MODIFIED:20260109T022109Z
UID:3349-1773964800-1774051199@zoofolk.blog
SUMMARY:World Sparrow Day
DESCRIPTION:World Sparrow Day is a day designated to raise awareness of the House Sparrow and other common birds to urban environments.\n\nWhite-Crowned Sparrow
URL:https://zoofolk.blog/event/world-sparrow-day/
END:VEVENT
BEGIN:VEVENT
DTSTART;VALUE=DATE:20260320
DTEND;VALUE=DATE:20260321
DTSTAMP:20260423T181704
CREATED:20250306T214959Z
LAST-MODIFIED:20260109T022305Z
UID:3874-1773964800-1774051199@zoofolk.blog
SUMMARY:World Frog Day
DESCRIPTION:World Frog Day celebrates these often neglected amphibians. \n \nAfrican Bullfrog
URL:https://zoofolk.blog/event/world-frog-day/
END:VEVENT
BEGIN:VEVENT
DTSTART;VALUE=DATE:20260322
DTEND;VALUE=DATE:20260323
DTSTAMP:20260423T181704
CREATED:20241011T173313Z
LAST-MODIFIED:20260109T022413Z
UID:3352-1774137600-1774223999@zoofolk.blog
SUMMARY:International Seal Day
DESCRIPTION:It is a day set aside to raise awareness about seal conservation around the world. \nHarbor Seal
URL:https://zoofolk.blog/event/international-seal-day/
END:VEVENT
BEGIN:VEVENT
DTSTART;VALUE=DATE:20260323
DTEND;VALUE=DATE:20260324
DTSTAMP:20260423T181704
CREATED:20241011T174623Z
LAST-MODIFIED:20260109T022557Z
UID:3354-1774224000-1774310399@zoofolk.blog
SUMMARY:World Bear Day
DESCRIPTION:World Bear Day celebrates all bears\, regardless of species.  Though some are doing well\, like the American black bear\, others are Vulnerable (IUCN Red List) or Threatened (ESA) like the Andean (spectacled) bear. \nAndean Bear
URL:https://zoofolk.blog/event/world-bear-day/
END:VEVENT
BEGIN:VEVENT
DTSTART;VALUE=DATE:20260325
DTEND;VALUE=DATE:20260326
DTSTAMP:20260423T181704
CREATED:20241011T175723Z
LAST-MODIFIED:20260109T022912Z
UID:3357-1774396800-1774483199@zoofolk.blog
SUMMARY:Manatee Appreciation Day
DESCRIPTION:This day is to raise awareness about manatees\, their habitats\, and the challenges they face.  This is a US appreciation day so focuses on the West Indian manatee or Florida manatee.
URL:https://zoofolk.blog/event/manatee-appreciation-day/
END:VEVENT
BEGIN:VEVENT
DTSTART;VALUE=DATE:20260325
DTEND;VALUE=DATE:20260326
DTSTAMP:20260423T181704
CREATED:20250306T220203Z
LAST-MODIFIED:20260109T022728Z
UID:3878-1774396800-1774483199@zoofolk.blog
SUMMARY:National Peacock Day
DESCRIPTION:This day celebrates mostly in art the wondrous peacock. \n 
URL:https://zoofolk.blog/event/national-peacock-day/
END:VEVENT
BEGIN:VEVENT
DTSTART;VALUE=DATE:20260404
DTEND;VALUE=DATE:20260405
DTSTAMP:20260423T181704
CREATED:20260109T024930Z
LAST-MODIFIED:20260109T024930Z
UID:4139-1775260800-1775347199@zoofolk.blog
SUMMARY:World Civet Day
DESCRIPTION:World Civet Day highlight the unique role civets play in ecosystems and the threats they face\, especially from the unethical kopi luwak (civet coffee) trade\, with themes focusing on conservation\, education\, and promoting responsible choices like avoiding exploited wildlife products.
URL:https://zoofolk.blog/event/world-civet-day/
END:VEVENT
BEGIN:VEVENT
DTSTART;VALUE=DATE:20260528
DTEND;VALUE=DATE:20260529
DTSTAMP:20260423T181704
CREATED:20240426T145909Z
LAST-MODIFIED:20260109T020229Z
UID:2342-1779926400-1780012799@zoofolk.blog
SUMMARY:Whooping Crane Day
DESCRIPTION:Whooping Crane Day is designed to show our appreciation of the rarest crane in the world\, and one of the most rare birds in North America. \nWhooping Crane
URL:https://zoofolk.blog/event/whooping-crane-day/
END:VEVENT
BEGIN:VEVENT
DTSTART;VALUE=DATE:20260723
DTEND;VALUE=DATE:20260724
DTSTAMP:20260423T181704
CREATED:20260109T021650Z
LAST-MODIFIED:20260109T021650Z
UID:4137-1784764800-1784851199@zoofolk.blog
SUMMARY:World Whale and Dolphin Day
DESCRIPTION:World Whale and Dolphin Day was established to raise awareness about protecting whales\, dolphins\, and other marine mammals from threats like pollution and whaling. \n \nJuly 23\, 1982 was when the IWC put a moratorium commercial whaling.
URL:https://zoofolk.blog/event/world-whale-and-dolphin-day/
END:VEVENT
END:VCALENDAR