BEGIN:VCALENDAR
VERSION:2.0
PRODID:-// - ECPv6.15.20//NONSGML v1.0//EN
CALSCALE:GREGORIAN
METHOD:PUBLISH
X-ORIGINAL-URL:https://zoofolk.blog
X-WR-CALDESC:Events for 
REFRESH-INTERVAL;VALUE=DURATION:PT1H
X-Robots-Tag:noindex
X-PUBLISHED-TTL:PT1H
BEGIN:VTIMEZONE
TZID:America/Chicago
BEGIN:DAYLIGHT
TZOFFSETFROM:-0600
TZOFFSETTO:-0500
TZNAME:CDT
DTSTART:20230312T080000
END:DAYLIGHT
BEGIN:STANDARD
TZOFFSETFROM:-0500
TZOFFSETTO:-0600
TZNAME:CST
DTSTART:20231105T070000
END:STANDARD
BEGIN:DAYLIGHT
TZOFFSETFROM:-0600
TZOFFSETTO:-0500
TZNAME:CDT
DTSTART:20240310T080000
END:DAYLIGHT
BEGIN:STANDARD
TZOFFSETFROM:-0500
TZOFFSETTO:-0600
TZNAME:CST
DTSTART:20241103T070000
END:STANDARD
BEGIN:DAYLIGHT
TZOFFSETFROM:-0600
TZOFFSETTO:-0500
TZNAME:CDT
DTSTART:20250309T080000
END:DAYLIGHT
BEGIN:STANDARD
TZOFFSETFROM:-0500
TZOFFSETTO:-0600
TZNAME:CST
DTSTART:20251102T070000
END:STANDARD
END:VTIMEZONE
BEGIN:VEVENT
DTSTART;VALUE=DATE:20241204
DTEND;VALUE=DATE:20241205
DTSTAMP:20260424T155803
CREATED:20240509T231859Z
LAST-MODIFIED:20240509T231859Z
UID:2674-1733270400-1733356799@zoofolk.blog
SUMMARY:International Cheetah Day
DESCRIPTION:International Cheetah Day is a day to raise awareness of cheetahs\, focus on their conservation\, and celebrate their unique adaptations and importance to the ecosystem. \n \nCheetah
URL:https://zoofolk.blog/event/international-cheetah-day/
END:VEVENT
BEGIN:VEVENT
DTSTART;VALUE=DATE:20241204
DTEND;VALUE=DATE:20241205
DTSTAMP:20260424T155803
CREATED:20240509T232623Z
LAST-MODIFIED:20240511T221437Z
UID:2676-1733270400-1733356799@zoofolk.blog
SUMMARY:Wildlife Conservation Day
DESCRIPTION:Wildlife Conservation Day seeks to spread awareness about preserving and protecting the natural world and its inhabitants. Additionally\, the observance strives to put an end to wildlife crime and supporting the Endangered Species Act. This day is sometimes called National Conservation Day\, since World Wildlife Day is in March.\n \nHellbender\nBlack Rhinoceros\nAldabra Giant Tortoise\nGuam Kingfisher (extinct in the wild)
URL:https://zoofolk.blog/event/wildlife-conservation-day/
END:VEVENT
END:VCALENDAR