BEGIN:VCALENDAR
VERSION:2.0
PRODID:-// - ECPv6.15.20//NONSGML v1.0//EN
CALSCALE:GREGORIAN
METHOD:PUBLISH
X-ORIGINAL-URL:https://zoofolk.blog
X-WR-CALDESC:Events for 
REFRESH-INTERVAL;VALUE=DURATION:PT1H
X-Robots-Tag:noindex
X-PUBLISHED-TTL:PT1H
BEGIN:VTIMEZONE
TZID:America/Chicago
BEGIN:DAYLIGHT
TZOFFSETFROM:-0600
TZOFFSETTO:-0500
TZNAME:CDT
DTSTART:20230312T080000
END:DAYLIGHT
BEGIN:STANDARD
TZOFFSETFROM:-0500
TZOFFSETTO:-0600
TZNAME:CST
DTSTART:20231105T070000
END:STANDARD
BEGIN:DAYLIGHT
TZOFFSETFROM:-0600
TZOFFSETTO:-0500
TZNAME:CDT
DTSTART:20240310T080000
END:DAYLIGHT
BEGIN:STANDARD
TZOFFSETFROM:-0500
TZOFFSETTO:-0600
TZNAME:CST
DTSTART:20241103T070000
END:STANDARD
BEGIN:DAYLIGHT
TZOFFSETFROM:-0600
TZOFFSETTO:-0500
TZNAME:CDT
DTSTART:20250309T080000
END:DAYLIGHT
BEGIN:STANDARD
TZOFFSETFROM:-0500
TZOFFSETTO:-0600
TZNAME:CST
DTSTART:20251102T070000
END:STANDARD
END:VTIMEZONE
BEGIN:VEVENT
DTSTART;VALUE=DATE:20241102
DTEND;VALUE=DATE:20241103
DTSTAMP:20260424T175320
CREATED:20240508T153801Z
LAST-MODIFIED:20240508T154514Z
UID:2587-1730505600-1730591999@zoofolk.blog
SUMMARY:World Numbat Day
DESCRIPTION:World Numbat Day shows appreciation for this amazing mammal. It’s also a day to encourage action to help conserve these endangered animals. \n \nNumbat photo from Wikipedia (https://en.wikipedia.org/wiki/Main_Page)
URL:https://zoofolk.blog/event/world-numbat-day/
END:VEVENT
BEGIN:VEVENT
DTSTART;VALUE=DATE:20241102
DTEND;VALUE=DATE:20241103
DTSTAMP:20260424T175320
CREATED:20240508T154821Z
LAST-MODIFIED:20240508T154821Z
UID:2592-1730505600-1730591999@zoofolk.blog
SUMMARY:National Bison Day
DESCRIPTION:National Bison Day seeks to raise awareness about the bison’s role in American history and the ongoing conservation efforts to maintain this majestic creature’s population. \nPlains Bison
URL:https://zoofolk.blog/event/national-bison-day/
END:VEVENT
END:VCALENDAR